BEGIN:VCALENDAR
VERSION:2.0
PRODID:-//eventon.com NONSGML v1.0//EN
CALSCALE:GREGORIAN
METHOD:PUBLISH
BEGIN:VEVENT
UID:69e5fc8083d58
DTSTAMP:20260420T101424Z
DTSTART:20260430T150000Z
DTEND:20260430T230000Z
LOCATION:Best Western Plus Coeur d&#039;Alene Inn 506 W Appleway Avenue
SUMMARY:2026 SCOI - Coeur d'Alene
DESCRIPTION:Join us for the 2026 IAC Spring County Officials Institute (COI
 )\,  this April at the Best Western Inn Coeur d'Alene.\nhttps://idcounties.
 org/events/2026-scoi-coeur-dalene/
URL:https://idcounties.org/events/2026-scoi-coeur-dalene/
END:VEVENT
END:VCALENDAR