BEGIN:VCALENDAR
VERSION:2.0
PRODID:-//eventon.com NONSGML v1.0//EN
CALSCALE:GREGORIAN
METHOD:PUBLISH
BEGIN:VEVENT
UID:69e5fcb33e3fc
DTSTAMP:20260420T101515Z
DTSTART:20251120T080000Z
DTEND:20251120T150000Z
LOCATION:
SUMMARY:IAC Fall County Officials Institute: Jerome County
DESCRIPTION:The IAC Fall County Officials Institute will be held on Novembe
 r 20\,  2025 at the Jerome Fairgrounds.\nhttps://idcounties.org/events/iac-
 fall-county-officials-institute-jerome-county/
URL:https://idcounties.org/events/iac-fall-county-officials-institute-jerome-county/
END:VEVENT
END:VCALENDAR