BEGIN:VCALENDAR
VERSION:2.0
PRODID:-//eventon.com NONSGML v1.0//EN
CALSCALE:GREGORIAN
METHOD:PUBLISH
BEGIN:VEVENT
UID:69e5fcb35697b
DTSTAMP:20260420T101515Z
DTSTART:20261207T083000Z
DTEND:20261209T160000Z
LOCATION:
SUMMARY:2026 ISA & IJAA Winter Conference
DESCRIPTION:December 7 - 10: ISA &amp; IJAA Annual Conference  //  Boise 
 Centre  //  Boise\,  ID\nhttps://idcounties.org/events/2026-isa-ijaa-wint
 er-conference/
URL:https://idcounties.org/events/2026-isa-ijaa-winter-conference/
END:VEVENT
END:VCALENDAR