BEGIN:VCALENDAR
VERSION:2.0
PRODID:-//eventon.com NONSGML v1.0//EN
CALSCALE:GREGORIAN
METHOD:PUBLISH
BEGIN:VEVENT
UID:69e5e44ee9424
DTSTAMP:20260420T083110Z
DTSTART:20250325T143000Z
DTEND:20250325T213000Z
LOCATION:Vendome Event Center 309 State St
SUMMARY:ISTC County Commissioner Board of Equalization Training - Weiser
DESCRIPTION:The Tax Commission conducts annual county commissioner training
  as required by Idaho Code 63-105(6) and Idaho Code 63-105A(17). We invite 
 all county commissioners to attend\,  along with county assessors and count
 y clerks. County assessors and county clerks are encouraged to bring staff 
 applicable to the county commissioner/board of equalization process.[..]\nh
 ttps://idcounties.org/events/istc-county-commissioner-board-of-equalization
 -training-weiser/
URL:https://idcounties.org/events/istc-county-commissioner-board-of-equalization-training-weiser/
END:VEVENT
END:VCALENDAR