BEGIN:VCALENDAR
VERSION:2.0
PRODID:-//eventon.com NONSGML v1.0//EN
CALSCALE:GREGORIAN
METHOD:PUBLISH
BEGIN:VEVENT
UID:69e5a253d3d85
DTSTAMP:20260420T034939Z
DTSTART:20250917T143000Z
DTEND:20250918T230000Z
LOCATION:Riverside Hotel 2900 W Chinden Blvd
SUMMARY:ISACC Annual Conference
DESCRIPTION:ISACC Annual Conference // Riverside Hotel // Boise\,  ID\nhttp
 s://idcounties.org/events/isacc-annual-conference-2/
URL:https://idcounties.org/events/isacc-annual-conference-2/
END:VEVENT
END:VCALENDAR