BEGIN:VCALENDAR
VERSION:2.0
PRODID:-//eventon.com NONSGML v1.0//EN
CALSCALE:GREGORIAN
METHOD:PUBLISH
BEGIN:VEVENT
UID:69ebeae64074c
DTSTAMP:20260424T221254Z
DTSTART:20241121T150000Z
DTEND:20241122T230000Z
LOCATION:Riverside Hotel 2900 W Chinden Blvd
SUMMARY:IAC Fall County Officials Institute Boise
DESCRIPTION:The County Officials Institute (COI) is a training program desi
 gned to provide the skills and knowledge to be an effective leader in count
 y government. County elected officials and county staff are welcome to part
 icipate in the program. Courses will be offered at three in-person location
 s throughout Idaho.\nhttps://idcounties.org/events/iac-fall-county-official
 s-institute/
URL:https://idcounties.org/events/iac-fall-county-officials-institute/
END:VEVENT
END:VCALENDAR