BEGIN:VCALENDAR
VERSION:2.0
PRODID:-//eventon.com NONSGML v1.0//EN
CALSCALE:GREGORIAN
METHOD:PUBLISH
BEGIN:VEVENT
UID:69e5fca27cfbc
DTSTAMP:20260420T101458Z
DTSTART:20240514T193000Z
DTEND:20240514T223000Z
LOCATION:College of Eastern Idaho 1600 S. 25Th E. (Alexander Creek Building #5\,  Room 531) Idaho Falls ID 83404
SUMMARY:ISTC 2024 Budget and Levy Workshop: Idaho Falls
DESCRIPTION:This workshop provides targeted guidance for county officials f
 or the process of setting budgets and levies as well as the submission of d
 ata and documents to taxing districts and the Tax Commission. These session
 s will focus on issues county officials may need to address with their dist
 ricts\,  including: Where maximum[..]\nhttps://idcounties.org/events/istc-2
 024-budget-and-levy-workshop-idaho-falls/
URL:https://idcounties.org/events/istc-2024-budget-and-levy-workshop-idaho-falls/
END:VEVENT
END:VCALENDAR