BEGIN:VCALENDAR
VERSION:2.0
PRODID:-//eventon.com NONSGML v1.0//EN
CALSCALE:GREGORIAN
METHOD:PUBLISH
BEGIN:VEVENT
UID:69e4e2889ff9e
DTSTAMP:20260419T141120Z
DTSTART:20240201
DTEND:20240202
LOCATION:Boise Centre 850 W Front St
SUMMARY:2024 IT Leaders Midwinter Meeting
DESCRIPTION:Save the date for&nbsp;the&nbsp;IT&nbsp;Leaders&nbsp;Midwinter&
 nbsp;Meeting&nbsp;on&nbsp;February 1.&nbsp;This&nbsp;meeting brings&nbsp;to
 gether&nbsp;county&nbsp;IT&nbsp;leaders&nbsp;for&nbsp;education\, &nbsp;tre
 nding&nbsp;topics\, &nbsp;and networking&nbsp;opportunities.&nbsp;We look&n
 bsp;forward&nbsp;to&nbsp;seeing&nbsp;you&nbsp;in&nbsp;Boise!\nhttps://idcou
 nties.org/events/2024-it-leaders-midwinter-meeting/
URL:https://idcounties.org/events/2024-it-leaders-midwinter-meeting/
END:VEVENT
END:VCALENDAR