BEGIN:VCALENDAR
VERSION:2.0
PRODID:-//eventon.com NONSGML v1.0//EN
CALSCALE:GREGORIAN
METHOD:PUBLISH
BEGIN:VEVENT
UID:69eb2c44bc58f
DTSTAMP:20260424T083932Z
DTSTART:20240813
DTEND:20240814
LOCATION:Best Western Plus Burley Inn &amp; Convention Center 800 N Overland Avenue
SUMMARY:2024 IACRC Annual Conference
DESCRIPTION:Registration is now open for the 2024 Idaho Association of Coun
 ty Recorders and Clerks Annual Conference from August 13 - 15 in beautiful
  Burley\,  Idaho.!This conference brings together county clerks and recorde
 rs from Idaho's counties for education\,  discussion of trending topics\,  
 vendor exhibits\,  and networking opportunities. We look forward to seeing[
 ..]\nhttps://idcounties.org/events/2024-iacrc-annual-conference/
URL:https://idcounties.org/events/2024-iacrc-annual-conference/
END:VEVENT
END:VCALENDAR