BEGIN:VCALENDAR
VERSION:2.0
PRODID:-//eventon.com NONSGML v1.0//EN
CALSCALE:GREGORIAN
METHOD:PUBLISH
BEGIN:VEVENT
UID:69e784272c431
DTSTAMP:20260421T140527Z
DTSTART:20230925
DTEND:20230926
LOCATION:Boise Centre 850 W Front St
SUMMARY:2023 IAC Annual Conference
DESCRIPTION:Save the date for the 2023 Idaho Association of Counties Annual
  Conference in Boise at the Boise Centre from September 25 -27\,  2023! Thi
 s event\,  which is normally attended by over 200 county officials\,  lasts
  approximately three days. The conference features committee meetings\,  gu
 est speakers\,  general sessions\,  workshops on topics[..]\nhttps://idcoun
 ties.org/events/2023-iac-annual-conference/
URL:https://idcounties.org/events/2023-iac-annual-conference/
END:VEVENT
END:VCALENDAR