BEGIN:VCALENDAR
VERSION:2.0
PRODID:-//eventon.com NONSGML v1.0//EN
CALSCALE:GREGORIAN
METHOD:PUBLISH
BEGIN:VEVENT
UID:69e5e83e74a0d
DTSTAMP:20260420T084758Z
DTSTART:20230815
DTEND:20230816
LOCATION:Lynch Center 401 S Warpath St
SUMMARY:2023 IACRC Annual Conference
DESCRIPTION:You are invited to&nbsp;attend the 2023 Idaho Association of Co
 unty Recorders and Clerks Annual Conference from&nbsp;August 15 - 17 in bea
 utiful Salmon\,  Idaho.&nbsp;This conference brings together county clerks 
 and recorders from Idaho's counties for education\,  discussion of trending
  topics\,  vendor exhibits\,  and networking opportunities. We look forward
  to seeing everyone&nbsp;in[..]\nhttps://idcounties.org/events/2023-iacrc-a
 nnual-conference/
URL:https://idcounties.org/events/2023-iacrc-annual-conference/
END:VEVENT
END:VCALENDAR