BEGIN:VCALENDAR
VERSION:2.0
PRODID:-//eventon.com NONSGML v1.0//EN
CALSCALE:GREGORIAN
METHOD:PUBLISH
BEGIN:VEVENT
UID:69e5e84739b5d
DTSTAMP:20260420T084807Z
DTSTART:20221129
DTEND:20221130
LOCATION:Hilton Garden Inn Downtown Boise 348 S 13th St.
SUMMARY:2022 IACA Fall Meeting
DESCRIPTION:Please mark your calendar to join the IACA for their Fall Meeti
 ng in Boise on November 29\,  2022 in Boise\,  Idaho at the Hilton Garden I
 nn downtown. &nbsp;\nhttps://idcounties.org/events/2022-iaca-fall-meeting/
URL:https://idcounties.org/events/2022-iaca-fall-meeting/
END:VEVENT
END:VCALENDAR