BEGIN:VCALENDAR
VERSION:2.0
PRODID:-//eventon.com NONSGML v1.0//EN
CALSCALE:GREGORIAN
METHOD:PUBLISH
BEGIN:VEVENT
UID:69e4df35de4c9
DTSTAMP:20260419T135709Z
DTSTART:20220526T193000Z
DTEND:20220526T223000Z
LOCATION:College of Southern Idaho - Herrett Center\,  Rick Allen Room 315 Falls Avenue
SUMMARY:2022 ISTC Budget & Levy Training - Clerk Session
DESCRIPTION:We have no control over the temperatures in these facilities\, 
  so it is suggested to dress in layers. Please bring pen/pencil and a calcu
 lator\,  as there are working problems to do during the session. If you hav
 e access to a laptop or tablet\,  you may find those useful for these[..]\n
 https://idcounties.org/events/2022-istc-budget-levy-training-clerk-session-
 copy-5/
URL:https://idcounties.org/events/2022-istc-budget-levy-training-clerk-session-copy-5/
END:VEVENT
END:VCALENDAR