BEGIN:VCALENDAR
VERSION:2.0
PRODID:-//eventon.com NONSGML v1.0//EN
CALSCALE:GREGORIAN
METHOD:PUBLISH
BEGIN:VEVENT
UID:69e782609e980
DTSTAMP:20260421T135752Z
DTSTART:20220203T150000Z
DTEND:20220204T000000Z
LOCATION:Riverside Hotel 2900 W Chinden Blvd
SUMMARY:2022 IT Directors Midwinter Meeting
DESCRIPTION:You're invited to attend the County IT Directors in Boise at th
 e Riverside Hotel on February 3rd for a one-day meeting. \nhttps://idcount
 ies.org/events/2022-it-directors-midwinter-meeting/
URL:https://idcounties.org/events/2022-it-directors-midwinter-meeting/
END:VEVENT
END:VCALENDAR