BEGIN:VCALENDAR
VERSION:2.0
PRODID:-//eventon.com NONSGML v1.0//EN
CALSCALE:GREGORIAN
METHOD:PUBLISH
BEGIN:VEVENT
UID:69e5fcf168a04
DTSTAMP:20260420T101617Z
DTSTART:20210723
DTEND:20210724
LOCATION:Ponderosa Restaurant
SUMMARY:District II Meeting
DESCRIPTION:District II Meeting\nhttps://idcounties.org/events/district-ii-
 meeting/
URL:https://idcounties.org/events/district-ii-meeting/
END:VEVENT
END:VCALENDAR