BEGIN:VCALENDAR
VERSION:2.0
PRODID:-//eventon.com NONSGML v1.0//EN
CALSCALE:GREGORIAN
METHOD:PUBLISH
BEGIN:VEVENT
UID:69e5fcd7722ed
DTSTAMP:20260420T101551Z
DTSTART:20210504T143000Z
DTEND:20210504T223000Z
LOCATION:Post Falls - Kootenai County Vehicle Licensing Office
SUMMARY:BOE - County Commissioner Training - Post Falls
DESCRIPTION:Dates and LocationsMarch 30\,  2021: Boise (Idaho State Tax Com
 mission: Coral Auditorium)March 31\,  2021: Caldwell (Canyon County Adminis
 tration Building: 1st floor Public Meeting Room)April 6\,  2021: Gooding (G
 ooding County Courthouse)April 7\,  2021: Burley (Cassia County Courthouse)
 April 13\,  2021: Rigby (Jefferson County Courthouse)April 14\,  2021: Poca
 tello (Bannock County Landfill)May 4\,  2021:[..]\nhttps://idcounties.org/e
 vents/boe-county-commissioner-training-7/
URL:https://idcounties.org/events/boe-county-commissioner-training-7/
END:VEVENT
END:VCALENDAR