BEGIN:VCALENDAR
VERSION:2.0
PRODID:-//eventon.com NONSGML v1.0//EN
CALSCALE:GREGORIAN
METHOD:PUBLISH
BEGIN:VEVENT
UID:69e4e36d4d15b
DTSTAMP:20260419T141509Z
DTSTART:20210310T210000Z
DTEND:20210310T220000Z
LOCATION:IAC Webinar
SUMMARY:IAC Webinar: Introduction to Personnel Management
DESCRIPTION:During this course\,  participants will be provided an overview
  of state and federal laws that affect personnel management in Idaho. Tammy
  Middleton\,  ICRMP Human Resources Risk Manager\,  will discuss how this l
 aws can interact with hiring\,  performance management and terminations. Th
 is free webinar is part of the IAC County Officials[..]\nhttps://idcounties
 .org/events/iac-webinar-introduction-to-personnel-management/
URL:https://idcounties.org/events/iac-webinar-introduction-to-personnel-management/
END:VEVENT
END:VCALENDAR