BEGIN:VCALENDAR
VERSION:2.0
PRODID:-//eventon.com NONSGML v1.0//EN
CALSCALE:GREGORIAN
METHOD:PUBLISH
BEGIN:VEVENT
UID:69e69c8465494
DTSTAMP:20260420T213708Z
DTSTART:20210210T210000Z
DTEND:20210210T220000Z
LOCATION:IAC Webinar
SUMMARY:IAC Webinar: Introduction to Planning and Zoning
DESCRIPTION:Presented by Jerry Mason\,  this course will focus on the basic
  elements of planning and zoning\,  based upon the Local Land Use Planning 
 Act (LLUPA). It will also include recommended framework for conducting publ
 ic hearings and explore the statutes of planning and zoning counties. This 
 free webinar is part of[..]\nhttps://idcounties.org/events/iac-webinar-intr
 oduction-to-planning-and-zoning/
URL:https://idcounties.org/events/iac-webinar-introduction-to-planning-and-zoning/
END:VEVENT
END:VCALENDAR