BEGIN:VCALENDAR
VERSION:2.0
PRODID:-//eventon.com NONSGML v1.0//EN
CALSCALE:GREGORIAN
METHOD:PUBLISH
BEGIN:VEVENT
UID:69ec257d4c2ec
DTSTAMP:20260425T022253Z
DTSTART:20211130T150000Z
DTEND:20211201T000000Z
LOCATION:Hampton Inn &amp; Suites Downtown Boise 495 S Capitol Blvd.
SUMMARY:2021 IACA Fall Meeting
DESCRIPTION:Please mark your calendar to join the IACA for their Fall Meeti
 ng in Boise on November 30\,  2021 in Boise\,  Idaho at the Hampton Inn &am
 p; Suites downtown. &nbsp;\nhttps://idcounties.org/events/2021-iaca-fall-me
 eting/
URL:https://idcounties.org/events/2021-iaca-fall-meeting/
END:VEVENT
END:VCALENDAR