BEGIN:VCALENDAR
VERSION:2.0
PRODID:-//eventon.com NONSGML v1.0//EN
CALSCALE:GREGORIAN
METHOD:PUBLISH
BEGIN:VEVENT
UID:69e613503b456
DTSTAMP:20260420T115144Z
DTSTART:20210927
DTEND:20210928
LOCATION:Boise Centre 850 W Front St
SUMMARY:2021 IAC Annual Conference
DESCRIPTION:Save the date for the IAC Annual Conference! Join us September 
 27 - 29\,  2021 at the Boise Centre in beautiful downtown Boise! &nbsp; &nb
 sp; &nbsp; &nbsp;\nhttps://idcounties.org/events/2021-iac-annual-conference
 /
URL:https://idcounties.org/events/2021-iac-annual-conference/
END:VEVENT
END:VCALENDAR